BEGIN:VCALENDAR
CALSCALE:GREGORIAN
X-WR-TIMEZONE;VALUE=TEXT:Pacific Standard Time
METHOD:PUBLISH
PRODID:-//Flo Inc.//FloSoft//EN
BEGIN:VEVENT
DTSTART;TZID=Pacific Standard Time:20250307T010000Z
DTSTAMP:20250307T010000Z
DTEND;TZID=Pacific Standard Time:20250307T030000Z
SUMMARY;ENCODING=QUOTED-PRINTABLE:The Brass Band of the King: Armenians in Ethiopia
DESCRIPTION;ENCODING=QUOTED-PRINTABLE:Hybrid book-talk by Dr. Boris Adjemian, co-organized by the <a href="https://schoolofmusic.ucla.edu/resources/armenian-music-program/" target="_blank">UCLA HASOM Armenian Music Program</a> and <a href="https://modernarmenianhistory.history.ucla.edu/" target="_blank">Richard Hovannisian Endowed Chair in Modern Armenian History</a> and co-sponsored by the <a href="http://international.ucla.edu/armenia" target="_blank">Promise Armenian Institute</a>.


LOCATION;ENCODING=QUOTED-PRINTABLE:Green Room (1230 Schoenberg Music Building)
UID:1711920250307T010000ZThe Brass Band of the King: Armenians in Ethiopia
PRIORITY:3
BEGIN:VALARM
TRIGGER;VALUE=DURATION:-P1D
ACTION:DISPLAY
DESCRIPTION:Event reminder
END:VALARM
END:VEVENT
END:VCALENDAR
